BEGIN:VCALENDAR
VERSION:2.0
PRODID:-//eventon.com NONSGML v1.0//EN
CALSCALE:GREGORIAN
METHOD:PUBLISH
BEGIN:VEVENT
UID:69e4fcf6f343d
DTSTAMP:20260419T160406Z
DTSTART:20250920
DTEND:20250921
LOCATION:
SUMMARY:Rennradtour um Baden-Baden
DESCRIPTION:Info + Anmeldung: Stefan Baumgratz\,  Tel.: 0173 / 21 60 90\nht
 tps://www.skiclub-oberkirch.de/events/rennradtour-um-baden-baden/
URL:https://www.skiclub-oberkirch.de/events/rennradtour-um-baden-baden/
END:VEVENT
END:VCALENDAR